BEGIN:VCALENDAR
VERSION:2.0
PRODID:-//Backup Alphawines - ECPv6.15.13//NONSGML v1.0//EN
CALSCALE:GREGORIAN
METHOD:PUBLISH
X-ORIGINAL-URL:https://alphabackup.vcloudtest.eu
X-WR-CALDESC:Evenementen voor Backup Alphawines
REFRESH-INTERVAL;VALUE=DURATION:PT1H
X-Robots-Tag:noindex
X-PUBLISHED-TTL:PT1H
BEGIN:VTIMEZONE
TZID:Europe/Brussels
BEGIN:DAYLIGHT
TZOFFSETFROM:+0100
TZOFFSETTO:+0200
TZNAME:CEST
DTSTART:20210328T010000
END:DAYLIGHT
BEGIN:STANDARD
TZOFFSETFROM:+0200
TZOFFSETTO:+0100
TZNAME:CET
DTSTART:20211031T010000
END:STANDARD
BEGIN:DAYLIGHT
TZOFFSETFROM:+0100
TZOFFSETTO:+0200
TZNAME:CEST
DTSTART:20220327T010000
END:DAYLIGHT
BEGIN:STANDARD
TZOFFSETFROM:+0200
TZOFFSETTO:+0100
TZNAME:CET
DTSTART:20221030T010000
END:STANDARD
BEGIN:DAYLIGHT
TZOFFSETFROM:+0100
TZOFFSETTO:+0200
TZNAME:CEST
DTSTART:20230326T010000
END:DAYLIGHT
BEGIN:STANDARD
TZOFFSETFROM:+0200
TZOFFSETTO:+0100
TZNAME:CET
DTSTART:20231029T010000
END:STANDARD
END:VTIMEZONE
BEGIN:VEVENT
DTSTART;TZID=Europe/Brussels:20220810T120000
DTEND;TZID=Europe/Brussels:20220813T200000
DTSTAMP:20260423T133259
CREATED:20220612T194905Z
LAST-MODIFIED:20220614T123611Z
UID:6023-1660132800-1660420800@alphabackup.vcloudtest.eu
SUMMARY:Alpha Wines pop-up winkel
DESCRIPTION:  \nAlpha Wines gaat offline! Na 2 jaar online te zijn\, komen we dichter naar jou toe\, met een heuse pop-up winkel in het hartje van Antwerpen tussen de Groenplaats en Vrijdagmarkt! \nNiet alleen kan je zo kennis maken met ons volledige assortiment en onze expertise gebruiken voor de beste wijn voor jou mee naar huis te nemen\, maar je kan ter plaatse ook een glaasje drinken bij een heerlijk Grieks hapje! \nWat meer dan een goed wijntje en hapje heb je nog nodig om de zomer van en in Antwerpen compleet te maken? \nWe ontmoeten je graag 3 weken lang in de XPO ruimte in de Leeuwenstraat 6\, iedere woensdag tem. zaterdag\, telkens van 12u – 20u! \nΤα λέμε*! \n  \n(*tot dan)
URL:https://alphabackup.vcloudtest.eu/event/alpha-wines-pop-up-winkel/
LOCATION:Alpha Wines Pop-Up Store\, Leeuwenstraat 6\, Antwerpen\, 2000\, België
ORGANIZER;CN="Alpha Wines":MAILTO:hello@alphabackup.vcloudtest.eu
END:VEVENT
END:VCALENDAR