BEGIN:VCALENDAR
VERSION:2.0
PRODID:-//Backup Alphawines - ECPv6.15.13//NONSGML v1.0//EN
CALSCALE:GREGORIAN
METHOD:PUBLISH
X-WR-CALNAME:Backup Alphawines
X-ORIGINAL-URL:https://alphabackup.vcloudtest.eu
X-WR-CALDESC:Evenementen voor Backup Alphawines
REFRESH-INTERVAL;VALUE=DURATION:PT1H
X-Robots-Tag:noindex
X-PUBLISHED-TTL:PT1H
BEGIN:VTIMEZONE
TZID:Europe/Brussels
BEGIN:DAYLIGHT
TZOFFSETFROM:+0100
TZOFFSETTO:+0200
TZNAME:CEST
DTSTART:20220327T010000
END:DAYLIGHT
BEGIN:STANDARD
TZOFFSETFROM:+0200
TZOFFSETTO:+0100
TZNAME:CET
DTSTART:20221030T010000
END:STANDARD
BEGIN:DAYLIGHT
TZOFFSETFROM:+0100
TZOFFSETTO:+0200
TZNAME:CEST
DTSTART:20230326T010000
END:DAYLIGHT
BEGIN:STANDARD
TZOFFSETFROM:+0200
TZOFFSETTO:+0100
TZNAME:CET
DTSTART:20231029T010000
END:STANDARD
BEGIN:DAYLIGHT
TZOFFSETFROM:+0100
TZOFFSETTO:+0200
TZNAME:CEST
DTSTART:20240331T010000
END:DAYLIGHT
BEGIN:STANDARD
TZOFFSETFROM:+0200
TZOFFSETTO:+0100
TZNAME:CET
DTSTART:20241027T010000
END:STANDARD
BEGIN:DAYLIGHT
TZOFFSETFROM:+0100
TZOFFSETTO:+0200
TZNAME:CEST
DTSTART:20250330T010000
END:DAYLIGHT
BEGIN:STANDARD
TZOFFSETFROM:+0200
TZOFFSETTO:+0100
TZNAME:CET
DTSTART:20251026T010000
END:STANDARD
BEGIN:DAYLIGHT
TZOFFSETFROM:+0100
TZOFFSETTO:+0200
TZNAME:CEST
DTSTART:20260329T010000
END:DAYLIGHT
BEGIN:STANDARD
TZOFFSETFROM:+0200
TZOFFSETTO:+0100
TZNAME:CET
DTSTART:20261025T010000
END:STANDARD
END:VTIMEZONE
BEGIN:VEVENT
DTSTART;TZID=Europe/Brussels:20250309T110000
DTEND;TZID=Europe/Brussels:20250309T180000
DTSTAMP:20260423T184312
CREATED:20250218T131849Z
LAST-MODIFIED:20250218T131849Z
UID:8449-1741518000-1741543200@alphabackup.vcloudtest.eu
SUMMARY:Foire du Vin Sint-Niklaas
DESCRIPTION:Reeds van bij de eerste editie in 2006 kende de Foire du Vin in Sint-Niklaas veel bijval en sindsdien is het succes van de beurs alleen maar gegroeid. Waaslanders zijn Bourgondiërs en houden van wijn. Dit enthousiasme voor de wijnbeurs werkt blijkbaar aanstekelijk want bezoekers komen ook van verderop (Antwerpen\, de Kempen\, het zuiden van Nederland).  Meer dan 40 exposanten maken zich op voor de 16-de editie van Foire du Vin Sint-Niklaas in de moderne accomodaties van ’t Bau-Huis.  Er is genoeg parking in de onmiddellijke buurt en zoals steeds staan de scouts van Sint-Niklaas paraat om de bezoekers te helpen bij het inladen. \nDeze keer zullen ook de Griekse wijnen eindelijk vertegenwoordigd zijn door Alpha Wines! Wij brengen een vleugje Griekenland naar de grootste wijnbeurs van het Waasland. Verwacht diverse van onze wijnen\, schuimwijnen alsook onze spirits die je zal kunnen proeven en direct aanschaffen! \nOpeningsuren : \n\nvrijdag:     17 u – 21 u\nzaterdag:  11 u – 20 u\nzondag:    11 u – 18 u\n\nInkom : 6 EUR (glas inbegrepen) ofwel met gratis uitnodiging (zie nieuwsbrief van Alpha Wines)\nglazen afzonderlijk te koop aan de ingang (2 EUR)
URL:https://alphabackup.vcloudtest.eu/event/foire-du-vin-sint-niklaas-3/
LOCATION:’t Bau-Huis\, Slachthuisstraat 60\, Sint-Niklaas\, 9100\, Belgium
CATEGORIES:Wine Tasting
END:VEVENT
BEGIN:VEVENT
DTSTART;TZID=Europe/Brussels:20250308T110000
DTEND;TZID=Europe/Brussels:20250308T200000
DTSTAMP:20260423T184312
CREATED:20250218T131708Z
LAST-MODIFIED:20250304T142149Z
UID:8447-1741431600-1741464000@alphabackup.vcloudtest.eu
SUMMARY:Foire du Vin Sint-Niklaas
DESCRIPTION:Reeds van bij de eerste editie in 2006 kende de Foire du Vin in Sint-Niklaas veel bijval en sindsdien is het succes van de beurs alleen maar gegroeid. Waaslanders zijn Bourgondiërs en houden van wijn. Dit enthousiasme voor de wijnbeurs werkt blijkbaar aanstekelijk want bezoekers komen ook van verderop (Antwerpen\, de Kempen\, het zuiden van Nederland).  Meer dan 40 exposanten maken zich op voor de 16-de editie van Foire du Vin Sint-Niklaas in de moderne accomodaties van ’t Bau-Huis.  Er is genoeg parking in de onmiddellijke buurt en zoals steeds staan de scouts van Sint-Niklaas paraat om de bezoekers te helpen bij het inladen. \nDeze keer zullen ook de Griekse wijnen eindelijk vertegenwoordigd zijn door Alpha Wines! Wij brengen een vleugje Griekenland naar de grootste wijnbeurs van het Waasland. Verwacht diverse van onze wijnen\, schuimwijnen alsook onze spirits die je zal kunnen proeven en direct aanschaffen! \nOpeningsuren : \n\nvrijdag:     17 u – 21 u\nzaterdag:  11 u – 20 u\nzondag:    11 u – 18 u\n\nInkom : 6 EUR (glas inbegrepen) ofwel met gratis uitnodiging (zie nieuwsbrief van Alpha Wines)\nglazen afzonderlijk te koop aan de ingang (2 EUR)
URL:https://alphabackup.vcloudtest.eu/event/foire-du-vin-sint-niklaas-2/
LOCATION:’t Bau-Huis\, Slachthuisstraat 60\, Sint-Niklaas\, 9100\, Belgium
CATEGORIES:Wine Tasting
END:VEVENT
BEGIN:VEVENT
DTSTART;TZID=Europe/Brussels:20250307T170000
DTEND;TZID=Europe/Brussels:20250307T210000
DTSTAMP:20260423T184312
CREATED:20250218T131108Z
LAST-MODIFIED:20250218T131311Z
UID:8442-1741366800-1741381200@alphabackup.vcloudtest.eu
SUMMARY:Foire du Vin Sint-Niklaas
DESCRIPTION:Reeds van bij de eerste editie in 2006 kende de Foire du Vin in Sint-Niklaas veel bijval en sindsdien is het succes van de beurs alleen maar gegroeid. Waaslanders zijn Bourgondiërs en houden van wijn. Dit enthousiasme voor de wijnbeurs werkt blijkbaar aanstekelijk want bezoekers komen ook van verderop (Antwerpen\, de Kempen\, het zuiden van Nederland).  Meer dan 40 exposanten maken zich op voor de 16-de editie van Foire du Vin Sint-Niklaas in de moderne accomodaties van ’t Bau-Huis.  Er is genoeg parking in de onmiddellijke buurt en zoals steeds staan de scouts van Sint-Niklaas paraat om de bezoekers te helpen bij het inladen. \nDeze keer zullen ook de Griekse wijnen eindelijk vertegenwoordigd zijn door Alpha Wines! Wij brengen een vleugje Griekenland naar de grootste wijnbeurs van het Waasland. Verwacht diverse van onze wijnen\, schuimwijnen alsook onze spirits die je zal kunnen proeven en direct aanschaffen! \nOpeningsuren : \n\nvrijdag:     17 u – 21 u\nzaterdag:  11 u – 20 u\nzondag:    11 u – 18 u\n\nInkom : 6 EUR (glas inbegrepen) ofwel met gratis uitnodiging (zie nieuwsbrief van Alpha Wines)\nglazen afzonderlijk te koop aan de ingang (2 EUR)
URL:https://alphabackup.vcloudtest.eu/event/foire-du-vin-sint-niklaas/
LOCATION:’t Bau-Huis\, Slachthuisstraat 60\, Sint-Niklaas\, 9100\, Belgium
CATEGORIES:Wine Tasting
END:VEVENT
BEGIN:VEVENT
DTSTART;TZID=Europe/Brussels:20240914T130000
DTEND;TZID=Europe/Brussels:20240915T180000
DTSTAMP:20260423T184312
CREATED:20240709T150102Z
LAST-MODIFIED:20240729T151712Z
UID:7882-1726318800-1726423200@alphabackup.vcloudtest.eu
SUMMARY:Greek Summer Part 2
DESCRIPTION:De Belgische zomer doet voorlopig nog niet veel en dus stellen we je graag voor aan: Griekse Zomer in eigen land\, en ja in Griekenland stopt de zomer zeker niet in Augustus\, dus doen ook wij gewoon verder in September! \n \nWat kan je verwachten op onze Greek Summer weekends? \n\n\n\n\n\n\n\n\n\nGa op ontdekking naar Paros in de Cycladen met de wijnen van Moraitis.\nVoel je thuis in Kreta bij de nieuwste creatie van Diamantakis Winery\nBeklim de steile rotsen van Zakynthos en geniet van een welverdiende rustpauze met Goumas Wine & Art Estate\nBetreed onontgonnen paden in Oost-Macedonië met de verbluffende wijnen van Charalaboglou\nVerruim je zintuigen met de olijfolies\, oregano en honing van Tsikrikonis Winery en Mintzas\n\n\n\n\n\n\n\n\n\n  \n  \n  \nWaar moet je je al zeker geen zorgen over maken? \n\nParkeerplaats. Ruim voldoende aanwezig op de grote gratis parking voor de deur.\nBudget. We hebben wijnen in alle prijscategorieën én we geven dat weekend leuke kortingen\nTijd: we zijn zaterdag 14/09 én zondag 15/00 geopend telkens van 13u t.e.m. 18u\nKeuze: alles is voorradig\, en er zijn meer dan 25+ wijnen ter plaatse te proeven!\nHet weer: in geval van regen sta je ook droog\, het hele magazijn is uiteraard overdekt en de zon zit sowieso in je glas!\n\n\n\n\n\n\n\n\n\n\n\n\n\n\nKortom jouw Greek Summer komt eraan… hopelijk ben jij er ook tegen dan helemaal klaar voor en mogen we je verwelkomen op één van onze twee opendeur weekends!
URL:https://alphabackup.vcloudtest.eu/event/greek-summer/
LOCATION:Alpha Wines Warehouse\, Europark-Noord 43C\, Sint-Niklaas\, 9100\, België
CATEGORIES:Wine Tasting
END:VEVENT
BEGIN:VEVENT
DTSTART;TZID=Europe/Brussels:20240831T130000
DTEND;TZID=Europe/Brussels:20240901T180000
DTSTAMP:20260423T184312
CREATED:20240709T150902Z
LAST-MODIFIED:20240807T113348Z
UID:7893-1725109200-1725213600@alphabackup.vcloudtest.eu
SUMMARY:Greek Summer Part 1
DESCRIPTION:De Belgische zomer doet voorlopig nog niet veel en dus stellen we je graag voor aan: Griekse Zomer in eigen land. En daarom is er niets beter dan de zomervakantie goed af te sluiten! \n \nWat kan je verwachten op onze Greek Summer weekends? \n\n\n\n\n\n\n\n\n\nGa op ontdekking naar Paros in de Cycladen met de wijnen van Moraitis.\nVoel je thuis in Kreta bij de nieuwste creatie van Diamantakis Winery\nBeklim de steile rotsen van Zakynthos en geniet van een welverdiende rustpauze met Goumas Wine & Art Estate\nBetreed onontgonnen paden in Oost-Macedonië met de verbluffende wijnen van Charalaboglou\nVerruim je zintuigen met de olijfolies\, oregano en honing van Tsikrikonis Winery en Mintzas\n\n\n\n\n\n\n\n\n\n  \n  \n  \nWaar moet je je al zeker geen zorgen over maken? \n\nBereikbaarheid. We zitten los in het centrum\, vlak bij de Meir – ideaal te bereiken met OV\, te voet of met de fiets.\nBudget. We hebben wijnen in alle prijscategorieën én we geven dat weekend leuke kortingen\nTijd: we zijn zaterdag 31/08 én zondag 01/09 geopend telkens van 13u t.e.m. 18u\nKeuze: alles is voorradig\, en er zijn meer dan 25+ wijnen ter plaatse te proeven!\nHet weer: in geval van regen sta je ook droog\, je staat uiteraard overdekt en de zon zit sowieso in je glas!\n\nKortom jouw Greek Summer komt eraan… hopelijk ben jij er ook tegen dan helemaal klaar voor en mogen we je verwelkomen op één van onze twee opendeur weekends!
URL:https://alphabackup.vcloudtest.eu/event/greek-summer-part-1/
LOCATION:Camborne\, Lange Klarenstraat 5-7\, Antwerpen\, 2000\, België
CATEGORIES:Wine Tasting
END:VEVENT
BEGIN:VEVENT
DTSTART;TZID=Europe/Brussels:20230805T120000
DTEND;TZID=Europe/Brussels:20230806T180000
DTSTAMP:20260423T184312
CREATED:20230625T115318Z
LAST-MODIFIED:20230720T122343Z
UID:6965-1691236800-1691344800@alphabackup.vcloudtest.eu
SUMMARY:Ontdekkingsdagen - Alpha Wines on Tour (Antwerpen)
DESCRIPTION:Deze zomer trekt Alpha Wines op pad om jullie te laten kennis maken met ons volledige assortiment van wijnen! Je vindt ons op verschillende locaties in Vlaanderen. \n  \nDeze ontdekkingsdagen zijn volledig gratis en er is geen inschrijving verreist! \nDe ideale moment dus om zowel onze bubbels\, witte\, rosé\, rode én orange wijnen te komen ontdekken en proeven. \n  \nZien we je daar?
URL:https://alphabackup.vcloudtest.eu/event/ontdekkingsdagen-alpha-wines-on-tour/
LOCATION:Camborne\, Lange Klarenstraat 5-7\, Antwerpen\, 2000\, België
CATEGORIES:Wine Tasting
ORGANIZER;CN="Alpha Wines":MAILTO:hello@alphabackup.vcloudtest.eu
END:VEVENT
BEGIN:VEVENT
DTSTART;TZID=Europe/Brussels:20230708T120000
DTEND;TZID=Europe/Brussels:20230709T180000
DTSTAMP:20260423T184312
CREATED:20230625T121126Z
LAST-MODIFIED:20230626T105633Z
UID:6975-1688817600-1688925600@alphabackup.vcloudtest.eu
SUMMARY:Ontdekkingsdagen - Alpha Wines on Tour (Antwerpen)
DESCRIPTION:Deze zomer trekt Alpha Wines op pad om jullie te laten kennis maken met ons volledige assortiment van wijnen! Je vindt ons op verschillende locaties in Vlaanderen. \nDeze ontdekkingsdagen zijn volledig gratis en er is geen inschrijving verreist! \nDe ideale moment dus om zowel onze bubbels\, witte\, rosé\, rode én orange wijnen te komen ontdekken en proeven. \nWe openen onze deuren op zaterdag en zondag telkens van 12u tot 18u. \nZien we je daar? \n  \nHieronder vind je meer details over waar en wanneer!
URL:https://alphabackup.vcloudtest.eu/event/ontdekkingsdagen-alpha-wines-on-tour-antwerpen/
LOCATION:Camborne\, Lange Klarenstraat 5-7\, Antwerpen\, 2000\, België
CATEGORIES:Wine Tasting
END:VEVENT
END:VCALENDAR